BEGIN:VCALENDAR
VERSION:2.0
CALSCALE:GREGORIAN
PRODID:adamgibbons/ics
METHOD:PUBLISH
X-PUBLISHED-TTL:PT1H
BEGIN:VEVENT
UID:538@events.akiba.party
SUMMARY:AniFest Anime & Cosplay Event 2026 Los Angeles
DTSTAMP:20260424T134006Z
DTSTART:20260606T150000Z
DTEND:20260607T040000Z
DESCRIPTION:Get ready for AniFest 2026 in Los Angeles! The ultimate anime e
	vent where fans\nand cosplayers unite for epic in-person fun!\n\n\nWELCOME
	 TO ANIFEST ANIME EVENT IN LOS ANGELES 2026!\n\nGet ready for an awesome i
	n-person Anime event experience at AniFest 2026! Join\nfellow anime lovers
	 for a fun-packed event full of cool panels\, meetups\, and\nexclusive mer
	ch. Whether you're a die-hard fan or just curious\, AniFest 2026 is\nthe p
	lace to be to geek out and make new friends. Don’t miss out on the fun and
	\nunforgettable moments waiting for you!
URL:https://events.akiba.party/event/anifest-anime-and-cosplay-event-2026-l
	os-angeles
GEO:33.8391825;-118.3442401
LOCATION:Torrance Cultural Arts Center - 3330 Civic Center Dr\, Torrance\, 
	CA 90503
STATUS:CONFIRMED
CATEGORIES:los angeles,cosplay,anime,anime event
X-ALT-DESC;FMTTYPE=text/html:<p>Get ready for AniFest 2026 in Los Angeles! 
	The ultimate anime event where fans and cosplayers unite for epic in-perso
	n fun!</p><h2>Welcome to AniFest Anime Event in Los Angeles 2026!</h2><p>G
	et ready for an awesome in-person Anime event experience at AniFest 2026! 
	Join fellow anime lovers for a fun-packed event full of cool panels, meetu
	ps, and exclusive merch. Whether you're a die-hard fan or just curious, An
	iFest 2026 is the place to be to geek out and make new friends. Don’t miss
	 out on the fun and unforgettable moments waiting for you!</p>
BEGIN:VALARM
ACTION:DISPLAY
DESCRIPTION:AniFest Anime & Cosplay Event 2026 Los Angeles
TRIGGER:-PT1H
END:VALARM
END:VEVENT
END:VCALENDAR
